BEGIN:VCALENDAR
VERSION:2.0
PRODID:icalendar-ruby
CALSCALE:GREGORIAN
METHOD:PUBLISH
BEGIN:VEVENT
DTSTAMP:20260424T104141Z
UID:28-491608@chooselifechurch.com
DTSTART:20261004T160000Z
DTEND:20261004T173000Z
CLASS:PUBLIC
CREATED:20260424T043507
DESCRIPTION:Join us for our Young Adults services every Sunday evening. We 
 call all young adults from ages 17-28 to make The Choice your spiritual h
 ome. We will journey with you through mentorship and discipleship during t
 he time in your life where you need to make the most impactful decisions.
  
LAST-MODIFIED:20260424T043507
LOCATION:
SUMMARY:The Choice
URL;VALUE=URI:https://www.chooselifechurch.com/events/the-choice/2026-10-04
ATTACH;FILENAME=4K1A9316.JPG;FMTTYPE=image/jpeg:https://dq5pwpg1q8ru0.cloud
 front.net/2024/05/30/07/25/34/05789898-bbeb-4bab-afb8-548287154fc2/4K1A931
 6.JPG
END:VEVENT
END:VCALENDAR
