BEGIN:VCALENDAR
VERSION:2.0
PRODID:icalendar-ruby
CALSCALE:GREGORIAN
METHOD:PUBLISH
BEGIN:VEVENT
DTSTAMP:20260425T111636Z
UID:29-494086@chooselifechurch.com
DTSTART:20261030T170000Z
DTEND:20261030T190000Z
CLASS:PUBLIC
CREATED:20260425T040753
DESCRIPTION:Welcome to Pulse Youth\,  the vibrant youth community of CHOOS
 E LIFE Church – a discipleship journey tailored for teens aged 13 to 18.
  Join us every Friday from 19:00 to 21:00 for an empowering night.
LAST-MODIFIED:20260425T040753
LOCATION:
SUMMARY:Pulse Youth
URL;VALUE=URI:https://www.chooselifechurch.com/events/pulse-youth/2026-10-3
 0
ATTACH;FILENAME=4K1A9302.JPG;FMTTYPE=image/jpeg:https://dq5pwpg1q8ru0.cloud
 front.net/2024/05/30/07/29/33/21a8dc0d-e837-42c4-a8f7-0ec990130d6e/4K1A930
 2.JPG
END:VEVENT
END:VCALENDAR
